BEGIN:VCALENDAR
VERSION:2.0
PRODID:-//Attique Africa - ECPv6.15.20//NONSGML v1.0//EN
CALSCALE:GREGORIAN
METHOD:PUBLISH
X-WR-CALNAME:Attique Africa
X-ORIGINAL-URL:https://attiqueafrica.com
X-WR-CALDESC:Events for Attique Africa
REFRESH-INTERVAL;VALUE=DURATION:PT1H
X-Robots-Tag:noindex
X-PUBLISHED-TTL:PT1H
BEGIN:VTIMEZONE
TZID:Africa/Nairobi
BEGIN:STANDARD
TZOFFSETFROM:+0300
TZOFFSETTO:+0300
TZNAME:EAT
DTSTART:20200101T000000
END:STANDARD
END:VTIMEZONE
BEGIN:VEVENT
DTSTART;TZID=Africa/Nairobi:20241106T163000
DTEND;TZID=Africa/Nairobi:20241206T190000
DTSTAMP:20260420T145141
CREATED:20211129T122708Z
LAST-MODIFIED:20241104T102542Z
UID:1819-1730910600-1733511600@attiqueafrica.com
SUMMARY:Money Lessons for Children/Teenagers Holiday Boot Camp
DESCRIPTION:Did you know that one of the best gifts you can give your Children/Teenagers is to prepare them to be empowered and responsible with Money? We believe that lessons learnt early in life last for a lifetime. \nWe at Attique Money Academy welcome you to sign them up this Life changing Money Lessons for  Children & Teenagers December  Holiday Boot camp (December 2024 edition). The objective is to cultivate positive money habits\, skills and attitudes from an early age for a lifetime of financial well-being. \nMission \nTo raise\, equip and empower financially responsible citizens who will build strong Families\, Neighborhoods as well as Local and International Communities. \nObjectives of the Boot Camp: \n\nTo Nurture positive money habits and attitudes in Teenagers & Children for a lifetime of financial well-being.\nTo deliver key foundation knowledge and build capacity in handling money from an early age.\nTo prepare children/teens for World realities around Money. This will greatly improve many other aspects of their lives.\nTo help Teenagers & Children differentiate between needs and wants hence make wise spending decisions.\n\nClass Schedules & Timings \nClasses will be happening in Weekly batches i.e. you can sign them up for a week\, two weeks etc. Continuing students will engage in an advanced curriculum while new students will restart the curriculum. Daily Classes will begin from Wednesday November 6th \, 2024 followed by weekly intakes (Wednesdays – Fridays) up to Friday December 6th 2024. For efficiency\, participants will be divided into age groups as follows: \nEvening hours Attendees \n\n7-11 Year old – 4.30- 5.30 p.m. (EAT)\n12-17 year old -6.00 – 7.00 p.m. (EAT)\n\nThe Curriculum \nThe curriculum is well researched and has been tested with different groups of Children and Teenagers in different set ups including Schools\, seminars & conferences\, schools\, holiday programs\, Youth Camps and Churches. It has been officially published in Finance Literacy books targeting Children\, Teenagers and Young Adults. These books serve as the curriculum for this training. What is more is that there will be homework after every topic. It is intended to be attempted with assistance from the Parents/ Guardians. This is to ensure that the money subject continue flowing right from home\, for a lifetime of financial well-being. \n\n\n\nMoney Club Online Training Timetable\n\n\nWeek 1\n\n\nDay\n7-11 years \n12-17 Years\n\n\nWednesday\n\n\nGeneral Teacher & Pupils Introduction\nSetting the class rules\nIntroduction/ what is Money?\nCurrencies Homework\n\n\n\n\nGeneral Teacher & Pupils Introduction\nSetting the class rules\nIntroduction/ what is Money?\nCurrencies Homework\n\n\n\n\nThursday\n\n\nReview  homework\nReview of introduction to money discussion\nThe History of Money\nMoney Characteristics\n\n\n\n\nReview  homework\nBasic Money Vocabulary\n\n\n\n\nFriday\n\n\nReview  homework\nIs Money a Treasure\nDiscovering my Hidden Treasurers\n\n\n\n\nReview  homework\nMoney Security features\n\n\n\n\nWeek 2:\n\n\nWednesday\n\n\nReview  homework\nBanking My Money\n\n\n\n\nReview  homework\nNeeds  & Wants\n\n\n\n\nThursday\n\n\nReview  homework\nDispelling Myths around money\nQ&A\n\n\n\n\nReview  homework\nDispelling Myths around money\nQ&A\n\n\n\n\nFriday\n\n\nReview  homework\nBanking My Money\n\n\n\n\nReview  homework\nFinance Fitness\n\n\n\n\nWeek 3\n\n\nWednesday\n\n\nReview  homework\nNeeds & Wants\n\n\n\n\nReview  homework\nPersonal Finance Fitness\n\n\n\n\nThursday\n\n\nReview  homework\nDiscovering Thankfulness  as a treasure\n\n\n\n\nReview  homework\nIntroduction to savings as a life skill\n\n\n\n\nFriday\n\n\nReview  homework\nComparison Shopping\nQ&A\n\n\n\n\nReview  homework\nThe how & Where of savings\nQ&A\n\n\n\n\n·         Week 4:\n\n\nWednesday\n\n\nReview  homework\nDiscovering Moderation as a treasure\nQ/A\n\n\n\n\nReview  homework\nMy Personal Money Goals\n\n\n\n\nThursday\n\n\nReview  homework\nMoney Security features\n\n\n\n\nReview  homework\nMoney Wastage\n\n\n\n\nFriday\n\n\nReview  homework\nSavings as a life skill\n\n\n\n\nReview  homework\nPersonal Budgeting\nSuccessful Personal Budgeting\n\n\n\n\n·         Week 5:\n\n\nWednesday\n\n\nReview  homework\nThe How of savings\n\n\n\n\nReview  homework\nPersonal Finance Planning\n\n\n\n\nThursday\n\n\nReview  homework\nThe where of savings\n\n\n\n\nReview  homework\nSuccessful Personal Finance Planning\n\n\n\n\nFriday\n\n\nReview  homework\nDiscovering creativity as a Treasure\nQ&A\n\n\n\n\nReview  homework\nGrowing your Money\n\n\n\n\n\n Training Methodology \nThis training is so impactful\, fun\, highly practical and interactive. Children are always called upon to engage in practical activities around money and discussions throughout the training. We also make use of various media to illustrate key points including videos and music. This allows participants to learn more\, remember more and apply more! We also undertake simple money making projects within the school/at home wherever applicable to make the money subject more practical. \nCharges: \nThe financial investment in this noble undertaking is highly subsidized and a worthy Investment. Charges will be Kshs. 1\,500.00 per student per week or Kshs. 7\,000.00 for the 5 weeks. Enrollment is open for weekly undertakings i.e. continuing students will engage in an advanced curriculum. \nVenue: \nOnline via Google meet. \nFor Children/Teenagers online Security reasons\, class link will always be sent just shortly before the class. \nBooking: \n\nPay the fees (Kshs. 1\,500.00 per student per week or 7\,000.00 for the 5 weeks) through M-pesa Till Number:       9 8 1 9 1 8 3\nForward the M-pesa Confirmation message to +254 727 143 313 with the Child name and age for confirmation and booking.\nProvide a number where class links will be shared.\nPrepare the participants for the lessons with the right gadgets\, Pens & note books\n\nTeam Profile \nOur team is able\, trained and Children Friendly. We have a mandate to help people put order in their money for a lifetime of financial well-being. We are especially passionate about Children\, teenagers and young adults. To cultivate positive money habits\, skills and attitudes for a lifetime of financial well-being. We believe that lessons learnt early in life lasts for a lifetime. Our team leader is a Money Coach\, Trainer & Prolific Author who has officially published Finance Literacy and Entrepreneurship Development Work books which are available for sale and whose titles are as below: \n\nWhat is Money? – Money Life skills for Children from 5 years of age\nNeeds Versus Wants – Money Life Skills for Children from 9 years of age\nSavings as a Life skills – Money Life skills for Children from 7 years of age\nIs Money a Treasure?- Money Life skills for Children from 9 years of age\nMoney Life skills for the 21st Century Teenagers\nGenerating my Unique Business Idea- An entrepreneurship support work book.\nMoney Nuggets Work Book –  Over 52 Weeks of Personalized Money Coaching Mini Classic\nMy Personalized Financial Planner- Track how you save\, spend and manage your Money to eliminate your Money Leakages!\nMaster your Money – The ultimate Personal Finance Planning handbook\, guide and Financial Freedom Manual\nDestroy that Debt!- A debt action planning Manual\n\nConclusion \nI trust that you will find our request and recommendations acceptable and look forward to forming a wonderful relationship with you that translates to success for all concerned. Please feel free and welcome to contact us on 0727 143 313/0729 468 251/ info@attiqueafrica.com for more details. \nThank You.
URL:https://attiqueafrica.com/event/money-lessons-for-teenagers-children-bootcamp/
LOCATION:Online\, Nairobi\, Nairobi\, Kenya
CATEGORIES:Children Finance Literacy Online,Conference,Money Club for Schools,Seminar,Webinar,Workshop
ATTACH;FMTTYPE=image/jpeg:https://attiqueafrica.com/wp-content/uploads/sites/34/2021/11/Flier-4-Money-Lessons-for-Children-Flier-scaled.jpg
ORGANIZER;CN="Attique Africa":MAILTO:online@attiqueafrica.com
END:VEVENT
BEGIN:VEVENT
DTSTART;TZID=Africa/Nairobi:20211106T133000
DTEND;TZID=Africa/Nairobi:20211107T180000
DTSTAMP:20260420T145141
CREATED:20211012T135001Z
LAST-MODIFIED:20211012T135002Z
UID:1794-1636205400-1636308000@attiqueafrica.com
SUMMARY:Money Lessons for Children/Teenagers- Mombasa Road Edition
DESCRIPTION:Attique Money Lifeskills Academy in conjuction with Wills Restaurant Mombasa Road welcomes you to sign up your Children and teenagers for this Life changing Money Lessons for Teenagers & Children in Person training for the Mombasa Road fraternity. The proposed training program aims at addressing SDG 1 and 4 i.e. No Poverty and Quality education. It’s meant to introduce more practical knowledge\, skills and tools around money\, personal Finance\, savings Personal budgeting\, money wastage\, borrowing\, growing money\, personal finance planning and money integrity. \nMission \nTo raise financially responsible citizens who will build strong Families\, Neighborhoods as well as Local and International Communities. \nObjectives of the training: \n\nTo Nurture positive money habits and attitudes in Teenagers & Children from an early age for a lifetime of financial well being\nTo deliver key foundation knowledge and build capacity in handling money from an early age.\nTo prepare children/teens for real World realities around Money. This will greatly improve many other aspects of their lives.\nTo help Teenagers & Children differentiate between needs and wants hence make wise spending decisions.\n\nClass Schedules & Timings \nClasses will be held in-person on Saturday and Sunday the 7th & 8th November 2021 3.30- 6.30 p.m. \nAge groups \nFor efficiency\, Children and Teenagers are divided into age groups as follows: \n\n7 -10 year olds\n11-13 Year Olds\n14-17 year olds\n\nLocation \nWills restaurant\, Former Soham Petrol station (Now Total Petrol Station) Syokimau along Mombasa Road. \nThe Curriculum  \nThe curriculum is well researched and has been tested with different groups of Children and Teenagers in different set ups including Schools\, seminars & conferences\, schools\, holiday programs\, Youth Camps and Churches. It has been officially published in Finance Literacy books targeting Children\, Teenagers and Young Adults. These books serve as the curriculum for this training. More details of the topics to be covered weekly for every class will be made available before kicking off the training. \n Training Methodology  \nThis training is impactful\, fun\, highly practical and interactive. Children are always called upon to engage in practical activities around money and discussions throughout the training. We also make use of various media to illustrate key points including videos and music. This allows participants to learn more\, remember more and apply more! We also undertake simple money making projects within the school/at home wherever applicable to make the money subject more practical. \nTeam Profile \nOur team is able\, trained and Children Friendly. We will hold weekly sessions either online or in person in school during club days when taken as an Extra Curricular and within the Timetable when taken as a Life skill. One of us has officially published Finance Literacy and other Work books on money which are available for sale and whose titles are as below: \n\nMoney Club Workbook- Money Lifeskills Workbook for Teenagers\nMoney Club Work Book- My Lifeskills Workbook for Children\nMy Smart Money Journal- My Personal Budget Companion\nMy Personal Money Diary\n Generating my Unique Business Idea- An entrepreneurship support work book- In progress\n\nCharges \nThe financial investment in this noble undertaking is highly subsidized and a worthy Investment. Charges will be Kshs. 500 per student per day. This will be inclusive of sumptuous snacks at wills restaurant. \nHow to pay \n\nAttique africa Paybill number 5186733 A/c Child’s name\nor\nWills Restaurant buy goods till number 936326\n\nConclusion  \nI trust that you will find our recommendations acceptable and look forward to working together in raising financially responsible citizens who will build strong families\, neighborhoods as well as local and international communities. Please feel free and welcome to contact us for an appointment/ more details. \nElizabeth /Juliet \nAttique Money Lifeskills Academy \n0727 143 313/ 0772 431402 \ninfo@attiqueafrica.com \nhttps:www.attiqueafrica.com \n*All COVID 19 Protocols will be observed*
URL:https://attiqueafrica.com/event/money-lessons-for-children-teenagers-mombasa-road-edition/
CATEGORIES:Children Finance Literacy Online,Conference,Money Club for Schools,Seminar,Workshop
ORGANIZER;CN="Attique Money Lifeskills Academy":MAILTO:waithakawelizabeth@gmail.com
END:VEVENT
BEGIN:VEVENT
DTSTART;TZID=Africa/Nairobi:20210802T140000
DTEND;TZID=Africa/Nairobi:20210802T150000
DTSTAMP:20260420T145141
CREATED:20210620T180011Z
LAST-MODIFIED:20210620T184326Z
UID:1742-1627912800-1627916400@attiqueafrica.com
SUMMARY:Launching the Money Lifeskills Workbook for Children
DESCRIPTION:Money Lessons for Children (Children Finance Literacy) is a core life skill especially in this day and age when children are growing up in a highly complex world. Whether Children come from low income backgrounds or more privileged ones\, learning basic concepts of Personal Finance like saving\, budgeting and spending is essential for their growth and development. The early years of life are the best time to learn these skills. Lessons learnt early in life tend to stick for a lifetime. \nThis book can act as a guide to parents\, Teachers and other Finance Literacy trainers. \nMission of the Workbook \nTo raise financially responsible citizens who will build strong families\, neighborhoods as well as local and international Communities. \nTarget ages Group \nThis Money Lifeskills workbook targets children in the primary level. \nAbout the Author \nElizabeth is a Money Coach. She is especially passionate about children\, Teenagers and Young Adults. To cultivate positive money habits and attitudes for a lifetime of financial well-being. Elizabeth holds a Master of Business Administration degree from the University of Nairobi and is a certified public Accountant of Kenya (C.P.A K). She is passionate and on a mission to impact the next generation with positive money habits\, skills and attitudes from an early age for a lifetime of financial well-being. She is the Founder of Attique Money Lifeskills Academy and part of a team that runs a wonderful money curriculum targeting the next generation and dubbed The Money Club. The objectives of the Money Club are: \n\nTo cultivate and nurture positive money habits and attitudes from an early age for a lifetime of financial well being\nTo help children discover key character traits and virtues around money.\nTo deliver key foundation knowledge and build capacity in handling money from an early age\nTo prepare children for real world realities in finances which will greatly improve many other aspects of their lives\nTo help children differentiate between needs and wants hence make wise spending decisions.\n\nThe Book Launch \nThe Work book will be officially launched online via zoom on Saturday the 4th  of September 2021. Please welcome to join us then. The meeting credentials are: \nMeeting ID: 822 7913 2581 \nPasscode: 481069 \nNote: This will be a private meeting and should not be shared with unauthorized persons. \n Pre- Launch Orders \nThe Work Book is available for sale at a special pre- Launch price of Kshs. 950/ only. (The Teenagers one is also available at the same price for a limited period). \nM-pesa Pay bill number: 5186733 \nFor enquiries please call +254 732 033 241 \nemail: marketing@attiqueafrica.com \n https://attiqueafrica.com/product/money-lifeskills-book/
URL:https://attiqueafrica.com/event/launching-th-money-lifeskills-workbook-for-children/
LOCATION:Online\, Nairobi\, Nairobi\, Kenya
CATEGORIES:Children Finance Literacy Online,Conference,Money Club for Schools,Seminar,Webinar,Workshop
ORGANIZER;CN="Attique Money Lifeskills Academy":MAILTO:waithakawelizabeth@gmail.com
END:VEVENT
END:VCALENDAR